BEGIN:VCALENDAR
VERSION:2.0
PRODID:-//eventon.com NONSGML v1.0//EN
CALSCALE:GREGORIAN
METHOD:PUBLISH
BEGIN:VEVENT
UID:69e5ed3e33d5f
DTSTAMP:20260420T090918Z
DTSTART:20260722T130000Z
DTEND:20260727T020000Z
LOCATION:
SUMMARY:Finalist - Miss Canada Pageant 2026
DESCRIPTION:\nhttps://nikkiclarkenetwork.com/events/finalist-miss-canada-pa
 geant-2026/
URL:https://nikkiclarkenetwork.com/events/finalist-miss-canada-pageant-2026/
END:VEVENT
END:VCALENDAR