BEGIN:VCALENDAR
VERSION:2.0
PRODID:-//eventon.com NONSGML v1.0//EN
CALSCALE:GREGORIAN
METHOD:PUBLISH
BEGIN:VEVENT
UID:69e5efbf62543
DTSTAMP:20260420T091959Z
DTSTART:20260801T140000Z
DTEND:20260802T035900Z
LOCATION:Sheraton Toronto Airport Hotel &amp; Conference Centre 801 Dixon Road\,  Toronto\,  ON
SUMMARY:IIM Canada 2026 Conference\,  Induction and Investiture
DESCRIPTION:\nhttps://nikkiclarkenetwork.com/events/iim-canada-2026-confere
 nce-induction-and-investiture/
URL:https://nikkiclarkenetwork.com/events/iim-canada-2026-conference-induction-and-investiture/
END:VEVENT
END:VCALENDAR