BEGIN:VCALENDAR
VERSION:2.0
PRODID:-//eventon.com NONSGML v1.0//EN
CALSCALE:GREGORIAN
METHOD:PUBLISH
BEGIN:VEVENT
UID:69e5821ebb752
DTSTAMP:20260420T013214Z
DTSTART:20260528T223000Z
DTEND:20260529T035900Z
LOCATION:
SUMMARY:The Nikki Clarke Show with special guest Rob Gerbrandt
DESCRIPTION:\nhttps://nikkiclarkenetwork.com/events/the-nikki-clarke-show-w
 ith-special-guest-rob-gerbrandt/
URL:https://nikkiclarkenetwork.com/events/the-nikki-clarke-show-with-special-guest-rob-gerbrandt/
END:VEVENT
END:VCALENDAR